BEGIN:VCALENDAR
VERSION:2.0
PRODID:-// - ECPv6.8.3//NONSGML v1.0//EN
CALSCALE:GREGORIAN
METHOD:PUBLISH
X-ORIGINAL-URL:https://forum-eidelstedt.de
X-WR-CALDESC:Veranstaltungen für 
REFRESH-INTERVAL;VALUE=DURATION:PT1H
X-Robots-Tag:noindex
X-PUBLISHED-TTL:PT1H
BEGIN:VTIMEZONE
TZID:UTC
BEGIN:STANDARD
TZOFFSETFROM:+0000
TZOFFSETTO:+0000
TZNAME:UTC
DTSTART:20240101T000000
END:STANDARD
TZID:Europe/Paris
BEGIN:DAYLIGHT
TZOFFSETFROM:+0100
TZOFFSETTO:+0200
TZNAME:CEST
DTSTART:20240331T010000
END:DAYLIGHT
BEGIN:STANDARD
TZOFFSETFROM:+0200
TZOFFSETTO:+0100
TZNAME:CET
DTSTART:20241027T010000
END:STANDARD
END:VTIMEZONE
BEGIN:VEVENT
DTSTART;TZID=UTC:20260225T190000
DTEND;TZID=UTC:20260225T210000
DTSTAMP:20260424T212010
CREATED:20260404T183948Z
LAST-MODIFIED:20260405T122813Z
UID:783-1772046000-1772053200@forum-eidelstedt.de
SUMMARY:Forum Eidelstedt 01-26:                           Abpflastern u. RausApp
DESCRIPTION:in der Stadtteilschule Eidelstedt\, Lohkampstraße 145\, 22523 Hamburg \n\n\n\n„Abpflastern“ – Flächen entsiegeln und begrünenPflastersteine\, Asphalt und Co. tauschen gegen Gräser\, Sträucher und anderes Grün.Sebastian Dorsch\, Lokalkraft            Vorstellung der App RAUS EidelstedtMartin Legge\, Stadtfinder      Link: RAUS App                                                                           \n\n\n\nWeitere Themen:– Treffen. Teilen. Tauschen\, Neuigkeiten aus dem Stadtteil– Verfügungsfonds Anträge \n\n\n\nDownloads:EinladungProtokollAntrag VerfügungsfondsKriterien Verfügungsfonds
URL:https://forum-eidelstedt.de/event/forum-eidelstedt-abpflastern/
ATTACH;FMTTYPE=image/jpeg:https://forum-eidelstedt.de/wp-content/uploads/2026/04/Foto-Abpflastern.jpg
END:VEVENT
BEGIN:VEVENT
DTSTART;TZID=UTC:20251126T180000
DTEND;TZID=UTC:20251126T200000
DTSTAMP:20260424T212010
CREATED:20260405T104902Z
LAST-MODIFIED:20260406T185826Z
UID:842-1764180000-1764187200@forum-eidelstedt.de
SUMMARY:Forum Eidelstedt 05-25:                                              Pro Eidelstedt e.V.\, Abschluss RISE
DESCRIPTION:– Vereinsgründung Pro Eidelstedt e.V.– Begehbarer Adventskalender Eidelstedt 2025– Ehrenamt in Eidelstedt– Treffen. Teilen. Tauschen\, Neuigkeiten aus dem Stadtteil– Abschied der steg als Gebietsentwickler im Fördergebiet Eidelstedt-Mitte \n\n\n\nDownloads:EinladungProtokollRISE Abschlussbericht
URL:https://forum-eidelstedt.de/event/forum-eidelstedt-05-25-pro-eidelstedt-e-v-abschluss-rise/
ATTACH;FMTTYPE=image/jpeg:https://forum-eidelstedt.de/wp-content/uploads/2026/04/Foto-Cafe-Steeedt.jpg
END:VEVENT
BEGIN:VEVENT
DTSTART;TZID=UTC:20250924T180000
DTEND;TZID=UTC:20250924T210000
DTSTAMP:20260424T212010
CREATED:20250716T205230Z
LAST-MODIFIED:20260405T095133Z
UID:570-1758736800-1758747600@forum-eidelstedt.de
SUMMARY:Forum Eidelstedt 04-25:                           Ehrenamt
DESCRIPTION:Am  Mittwoch 24. September 2025 um 18.00 Uhr tagt das Forum Eidelstedt \n\n\n\n \n\n\n\nAlle Interessierten sind herzlich willkommen. \n\n\n\nThema: Ehrenamt in Eidelstedt. \n\n\n\nAchtung Neuer Veranstaltungsort \n\n\n\n\nLißy-Haus\n\n\n\nOliver-Lißy-Strasse 2                 \n\n\n\n22523 Hamburg\n\n\n\n\nSie lernen hier unterschiedliche Träger\, deren Arbeit und Bedarfe in Eidelstedt kennen und können mit den Vertretungen der Einrichtungen ins Gespräch  kommen. \n\n\n\n \n\n\n\nWenn Sie für Ihre Einrichtung Ehrenamtliche/Freiwillige suchen\, besteht die Möglichkeit dieses hier bekannt zu machen. \n\n\n\n \n\n\n\n\n\nDownloads:EinladungProtokollFoto
URL:https://forum-eidelstedt.de/event/am-mittwoch-24-september-2025-um-18-00-uhr-tagt-das-forum-eidelstedt/
ATTACH;FMTTYPE=image/jpeg:https://forum-eidelstedt.de/wp-content/uploads/2024/04/LissyHaus04-scaled.jpg
END:VEVENT
BEGIN:VEVENT
DTSTART;TZID=UTC:20250906T190000
DTEND;TZID=UTC:20250906T220000
DTSTAMP:20260424T212010
CREATED:20250803T205840Z
LAST-MODIFIED:20260405T092930Z
UID:611-1757185200-1757196000@forum-eidelstedt.de
SUMMARY:Open Air Kino
DESCRIPTION:Am Tag der Familie gibt es auf dem Eidelstedter Marktplatz ab 20:00 Uhr eine Open Air Filmvorführung. \n\n\n\nAb 19:00 Uhr können Sie sich dort einen Platz für ihre mitgebrachte Sitzgelegenheit aussuchen und wenn Sie etwas dabei haben\, dort auch picknicken. \n\n\n\nDer Filmbeginn ist gegen 20:00 Uhr geplant.  \n\n\n\nhttps://eidelstedt.info/site2018/wp-content/uploads/2025/08/Open-Air-Kino-25.jpg
URL:https://forum-eidelstedt.de/event/open-air-kino/
ATTACH;FMTTYPE=image/jpeg:https://forum-eidelstedt.de/wp-content/uploads/2026/04/Open-Air-Kino-25.jpg
END:VEVENT
BEGIN:VEVENT
DTSTART;TZID=UTC:20250906T080000
DTEND;TZID=UTC:20250906T170000
DTSTAMP:20260424T212010
CREATED:20250803T134731Z
LAST-MODIFIED:20260406T190538Z
UID:599-1757145600-1757178000@forum-eidelstedt.de
SUMMARY:Hamburger Tag der Familie
DESCRIPTION:In Eidelstedt finden an diesem Tag verschiedene Veranstaltungen an unterschiedlichen Orten statt. Alles auf einen Blick finden Sie wenn Sie hier klicken: Plakat Tag der Familien_25_final
URL:https://forum-eidelstedt.de/event/hamburger-tag-der-familie/
ATTACH;FMTTYPE=image/jpeg:https://forum-eidelstedt.de/wp-content/uploads/2025/08/Plakat_Tag-der-Familien_25_final.jpg.jpg
END:VEVENT
BEGIN:VEVENT
DTSTART;TZID=UTC:20250711T080000
DTEND;TZID=UTC:20250718T170000
DTSTAMP:20260424T212010
CREATED:20250629T195538Z
LAST-MODIFIED:20250701T222849Z
UID:547-1752220800-1752858000@forum-eidelstedt.de
SUMMARY:Gesundheitstage in Eidelstedt vom 11. - 18. Juli 2025
DESCRIPTION:Gesundheit betrifft uns alle. Sie ist ein hohes Gut\,  das wir für uns und andere schützen und pflegen sollten. \n\n\n\n \n\n\n\nHier setzen auch in diesem Jahr wieder die Gesundheitstage in Eidelstedt an. Vielseitige Angebote rund um das Thema Gesundheit versprechen neue Impulse\, aber auch die Rückbesinnung auf Aspekte unseres Lebens\, die im Alltagstrubel leicht in Vergessenheit geraten können. Eidelstedt ist Vielfalt – die Gesundheitstage sind es auch. \n\n\n\nDie Stadteilkonferenz Eidelstedt wünscht interessante Anregungen\, Spaß und Gesundheit! \n\n\n\nZum Auftakt findet die Gesundheitsmesse statt\, am Freitag\, den 11.07. von 14:00 – 18:00  Uhr im Kulturhaus steeedt\,Alte Elbgaustr. 12  \n\n\n\nMontag 14.7Selbstmassage                                                                                        Sorgende Nachbarschaft                                                                        10:30 – 11:15 UhrReeWie-Haus\, Wiebischenkamp 58    Ansprechperson Elena Schulz-Bitter: elena.schulz-bitter@albertinen.de \n\n\n\nYoga für alle                                                                                         17:00  – 18:00 UhrTreffpunkt ReeWie-Haus \, Wiebischenkamp 58Ansprechperson: Carmen Ripper: st-eidelstedt@seniorenbuero-hamburg\,de \n\n\n\nGesundes Abendbrot für Familien mit Kindern von 0-5 J.            16:00–18:30 Uhr         Elternschule Eidelstedt im steeedt\,   Alte Elbgaustr. 12                            Ansprechperson: Lara Lickes\,  laramaria-lickes@eimsbuettel.hamburg.de \n\n\n\n Mittwoch\, 16.07.Tag der offenen Tür   DRK Tagespflege Eidelstedt                                                              12:00 – 16:00 Uhr            Hörgensweg 59 c                                                                                 Ansprechperson: Yvonne Siedlaczek\, info@drk-tagespflege-eidelsted.de \n\n\n\nAktiv abnehmen – nachhaltig                                                              nach AbspracheGesundAktiv-ZentrumFurtweg 51Ansprechperson Stephan Bauer\, stephan.bauer@sve-hamburg.de \n\n\n\nDonnerstag 17.07. Stadtteilrundgang 60+                                                                         10:00 – 16:00 UhrStart im Foyer des steeed\, Alte Elbgaustr. 12 Infos und Anmeldung über das Seniorennetzwerk: st-eidelstedt@seniorenbuero-hamburg.de \n\n\n\nZellkrafttraining                                                                                  nach AbspracheGesund Aktiv-Zentrum Furtweg 51Ansprechperson: Stephan Bauer\, stephan.bauer@sve-hamburg.de \n\n\n\nBewegung leicht gemacht                                                                    10:00 – 10:45alsterdorfer assistenz west gGmbhEkenknick 3Ansprechperson: Birgit Okken\, b.okken@alsterdorf-assistenz-west.de \n\n\n\nTai-Chi                                                                                                  17:00 – 18:00Treffpunkt ReeWie-Haus\, Wiebischenkamp 58Ansprechperson: Carmen Ripper\, st-eidelstedt@seniorenbuero-hamburg.de \n\n\n\nFreitag 18.07.Gesundes Frühstück für Familien mit Kindern von 0-3                 9:30 – 11:30Elternschule Eidelstedt im steeedt\,   Alte Elbgaustr. 12                            Ansprechperson: Lara Lickes\,  laramaria-lickes@eimsbuettel.hamburg.de \n\n\n\nOhr Akkupunktur                                                                            nach AnmeldungTreffpunkt ReeWie-Haus \, Wiebischenkamp 58Ansprechperson: Corinna Edenharter\, ov-eimsbuettel@asb-hamburg.de \n\n\n\nWeitere Angebote im Rahmen der Gesundheitstagefinden Sie auf den Infoblättern
URL:https://forum-eidelstedt.de/event/gesundheitstage-in-eidelstedt-vom-11-19-juli-2025/
ATTACH;FMTTYPE=image/png:https://forum-eidelstedt.de/wp-content/uploads/2025/06/gesundheitsmesse-eideldtedt.png
END:VEVENT
BEGIN:VEVENT
DTSTART;TZID=UTC:20250611T173000
DTEND;TZID=UTC:20250611T200000
DTSTAMP:20260424T212010
CREATED:20250525T181302Z
LAST-MODIFIED:20260406T191703Z
UID:540-1749663000-1749672000@forum-eidelstedt.de
SUMMARY:Forum Eidelstedt 03-25: Klimaanpassung und Beiräte in Eidelstedt
DESCRIPTION:Gemeinsames Treffen der Beiräte in Eidelstedt \n\n\n\nin der Grundschule Furtweg\, Furtweg 56\, 22523 Hamburg \n\n\n\n– Aktuelles\, Termine und Neuigkeiten aus dem Stadtteil und den einzelnen Quartieren– Austausch mit dem Klimateam des Bezirksamts Eimsbüttel– Engagiert im Quartier – Möglichkeiten für Klimaanpassung in Eidelstedt– Förderung von Stadtteilprojekten\, Aktionen oder Veranstaltungen über die    jeweiligen Verfügungsfonds \n\n\n\nDieses Treffen ist eine Sonderveranstaltung\, die von den drei Stadtteilbeiräten – Eidelstedt-Nord\, Eidelstedt-Ost und dem Forum Eidelstedt – organisiert und durchgeführt wird. Wir freuen uns auf den Austausch zum Schwerpunktthema – und darauf zu hören\, was in den verschiedenen Ecken unseres Stadtteils passiert. Wir möchten Raum bieten\, einander kennenzulernen\, ins Gespräch zu kommen und sich zu vernetzen. \n\n\n\nWeiteres unter: Stadtteilbeiräte in Eidelstedt: eidelstedt.INFO/stadtteil_eidelstedt/stadtteilbeiraete/  \n\n\n\nDownloads:Protokoll
URL:https://forum-eidelstedt.de/event/forum-eidelstedt-3-2025/
CATEGORIES:Sitzung
ATTACH;FMTTYPE=image/jpeg:https://forum-eidelstedt.de/wp-content/uploads/2026/04/IMG_4387-scaled.jpg
END:VEVENT
BEGIN:VEVENT
DTSTART;TZID=UTC:20250423T183000
DTEND;TZID=UTC:20250423T203000
DTSTAMP:20260424T212010
CREATED:20250410T135852Z
LAST-MODIFIED:20260406T205301Z
UID:532-1745433000-1745440200@forum-eidelstedt.de
SUMMARY:Forum Eidelstedt 02-25:              Abschluss RISE-Fördergebiet
DESCRIPTION:im Kulturhaus\, Alte Elbgaustraße 12\, 22523 Hamburg  \n\n\n\n– RISE-Fördergebiet Eidelstedt-Mitte – Beteiligung Rückblick Gebietsentwicklung   – treffen. teilen. tauschen\, Neuigkeiten aus dem Stadtteil– Verfügungsfondsanträge \n\n\n\n \n\n\n\ne
URL:https://forum-eidelstedt.de/event/forum-eidelstdt-2-25/
ATTACH;FMTTYPE=image/jpeg:https://forum-eidelstedt.de/wp-content/uploads/2024/04/steeedt.jpeg
END:VEVENT
BEGIN:VEVENT
DTSTART;TZID=UTC:20250226T190000
DTEND;TZID=UTC:20250226T210000
DTSTAMP:20260424T212010
CREATED:20250220T212543Z
LAST-MODIFIED:20260405T100526Z
UID:503-1740596400-1740603600@forum-eidelstedt.de
SUMMARY:Forum Eidelstedt 01-25:                            Folgen der Erderwärmung
DESCRIPTION:Forum Eidelstedt zum Thema: Folgen der Erderwärmung\n\n\n\n \n\n\n\nAm  Mittwoch 26. Februar 2025 um 19.00 Uhr tagt das Forum Eidelstedt in der Aula der Max-Träger-Schule\, Baumacker 10.  \n\n\n\nAlle Interessierten sind herzlich willkommen ! \n\n\n\nLeider wurde die Veranstaltung im Elbe Wochenblatt mit einer falschen Uhrzeit angekündigt   \n\n\n\nHauptthema des Stadtteilbeirats wird die Anpassung des Stadtteils und seiner Bewohner an die Folgen des Klima-Wandels sein. \n\n\n\nDaneben gibt es Informationen und Ankündigungen aus Eidelstedt\, außerdem wird über Anträge aus dem Verfügungsfonds entschieden. \n\n\n\nDownloads:Ergebisse
URL:https://forum-eidelstedt.de/event/forum-1-2025/
ATTACH;FMTTYPE=image/jpeg:https://forum-eidelstedt.de/wp-content/uploads/2026/04/FE-01-25-scaled.jpg
END:VEVENT
BEGIN:VEVENT
DTSTART;TZID=UTC:20241127T190000
DTEND;TZID=UTC:20241127T210000
DTSTAMP:20260424T212010
CREATED:20240219T172420Z
LAST-MODIFIED:20260406T201543Z
UID:212-1732734000-1732741200@forum-eidelstedt.de
SUMMARY:Forum Eidelstedt 05-24: Wünsche für Eidelstedt\, Wahl Geschäftsführung
DESCRIPTION:im Gemeindehaus an der Elisabethkirche\, Eidelstedter Dorfstraße 27\, 22527 Hamburg \n\n\n\n– treffen teilen tauschen\, unser neues aktives Format– Eidelstedter Ideen aus unseren bisherigen Terminen  Was wünschen wir uns für Eidelstedt? Und wer möchte was umsetzen?    Z.B. Kochen auf dem Markt\, Opern Air Kino\, Beete im Stadtteil\,    Geschichtswerkstatt\, …– Wahl der GeschäftsführungDownloads:Einladung / TagesordnungFolien VerfügungsfondsProtokoll
URL:https://forum-eidelstedt.de/event/plenum-05-24/
CATEGORIES:Sitzung
ATTACH;FMTTYPE=image/jpeg:https://forum-eidelstedt.de/wp-content/uploads/2026/04/IMG_28941.jpg
END:VEVENT
BEGIN:VEVENT
DTSTART;TZID=UTC:20240925T190000
DTEND;TZID=UTC:20240925T210000
DTSTAMP:20260424T212010
CREATED:20240209T074657Z
LAST-MODIFIED:20260406T195920Z
UID:112-1727290800-1727298000@forum-eidelstedt.de
SUMMARY:Forum Eidelstedt 04-24: Bilanz ein Jahr Forum
DESCRIPTION:Wir treffen uns im SVE /  Sportverein Eidelstedt Hamburg von 1880 e.V.\, Redingskamp 25\, 22523 Hamburg.    \n\n\n\n\n\nEidelstedt in BewegungWas möchten wir mit dem Forum bewegen?  Wie organisieren wir uns?Nach fast einem Jahr Forum möchten wir uns neu ausrichten. \n\n\n\n\n\n \n\n\n\n \n\n\n\nWie wäre es z.B. mit einem nebenan.de live\, also treffen\, tauschen\, teilen … neben den aktuellen Themen des Stadtteils sowie dem Verfügungsfonds. \n\n\n\n\n\nWir haben dazu verschiedene Aktive aus unserem Stadtteil\, aus befreundeten Beiräten und Projekten eingeladen.  In offener Runde werden wir uns austauschen und schauen\, wie wir weiter machen möchten. \n\n\n\n\n\n\n\n\n\n\n240925 Forum Eidelstedt 04-24 Einladung-TagesordnungHerunterladen\n\n\n\n\nhttp://forum-eidelstedt.de/wp-content/uploads/2025/04/240925-Protokoll-Forum-Eidelstedt-04-24-1.pdf
URL:https://forum-eidelstedt.de/event/4-sitzung/
CATEGORIES:Sitzung
ATTACH;FMTTYPE=image/jpeg:https://forum-eidelstedt.de/wp-content/uploads/2024/09/photo_2024-02-22_10-33-20.jpg
END:VEVENT
BEGIN:VEVENT
DTSTART;TZID=UTC:20240626T190000
DTEND;TZID=UTC:20240626T210000
DTSTAMP:20260424T212010
CREATED:20240209T073850Z
LAST-MODIFIED:20260406T194904Z
UID:107-1719428400-1719435600@forum-eidelstedt.de
SUMMARY:Forum Eidelstedt 03-24: Gemeinsam kochen u. Werkstatt Insel e.V
DESCRIPTION:in der Stadtteilschule Eidelstedt\, Lohkampstraße 145\, 22523 Hamburg \n\n\n\n– Gemeinsam kochen – Marktküche Jung & Alt– Werkstatt Insel e.V.  Die offene Recycling-Werkstatt aus Lurup ist zu Gast    und stellt ihre Angebote vor. \n\n\n\n \n\n\n\nDownloads: Einladung / Tagesordnung Antrag 03/2024 Schulverein der Max-Traeger-SchuleAntrag 04/2024 Forum Eidelstedt: Marktküche Jung & AltFolie VerfügungsfondsProtokollFlyer Ernährungskompetenz für Jung und Alt
URL:https://forum-eidelstedt.de/event/3-sitzung/
CATEGORIES:Sitzung
ATTACH;FMTTYPE=image/jpeg:https://forum-eidelstedt.de/wp-content/uploads/2024/04/STS-Eidelstedt-Lohkampstrasse-scaled.jpg
END:VEVENT
BEGIN:VEVENT
DTSTART;TZID=UTC:20240504T140000
DTEND;TZID=UTC:20240504T160000
DTSTAMP:20260424T212010
CREATED:20240420T215353Z
LAST-MODIFIED:20240420T215354Z
UID:440-1714831200-1714838400@forum-eidelstedt.de
SUMMARY:Fahrradtour auf den Spuren des Nationalsozialismus in Eidelstedt
DESCRIPTION:Wir fahren zur Gedenkstätte des KZ-Außen­lagers Eidelstedt in Lurup und durch das Gewerbegebiet an der Schnackenburgallee zur den Stätten der Zwangsarbeit im Zweiten Weltkrieg\, zum Schluss dann in das alte Dorf. Dabei ent­decken wir die Stolpersteine und die Orte\, die an die traurigen Geschichten aus dieser finsteren Zeit erinnern. Auch gedenken wir der Überlebenden und der Menschen\, die dazu beigetragen haben\, dass die Erinnerungen an die Verbrechen des NS-Regimes bis heute lebendig gehalten werden. \n\n\n\nBild: Gasthaus Doppeleiche am Eidelstedter Platz in den 1930er Jahren mit Hakenkreuz-Flaggen – Postkarte \n\n\n\nTreffen: Lohkampstr 275 vor dem Fahrrad­laden Coste \n\n\n\nUhrzeit 14 Uhr\, Dauer ca. 2 Stunden \n\n\n\nMax. 15 Teilnehmer\, wir bitten um Anmeldung bis 3.5. per E-Mail unter wpg.wallach(a)t-online.de.
URL:https://forum-eidelstedt.de/event/fahrradtour-auf-den-spuren-des-nationalsozialismus-in-eidelstedt/
ATTACH;FMTTYPE=image/jpeg:https://forum-eidelstedt.de/wp-content/uploads/2024/04/2-Doppeleiche-mit-Hakenkreuzen.jpg
END:VEVENT
BEGIN:VEVENT
DTSTART;TZID=UTC:20240424T190000
DTEND;TZID=UTC:20240424T210000
DTSTAMP:20260424T212010
CREATED:20240209T062815Z
LAST-MODIFIED:20260406T195841Z
UID:82-1713985200-1713992400@forum-eidelstedt.de
SUMMARY:Forum Eidelstedt 02-24: Ausbau Hoergensweg
DESCRIPTION:im Lißy-Haus\, Oliver-Lißy-Straße 2\, 22523 Hamburg\, Veranstaltungssaal 2. OG. \n\n\n\n\n\n\n\n\n\n\n\nDownloads: Einladung / Tagesordnung Antrag zum Verfügungsfonds ProtokollPräsentation LokalAktiv_Forum-Eidelstedt_24.04.2024Hoergensweg_Endausbau_1v4-AU_2016383-02-016Hoergensweg_Endausbau_1v4-AU_2016383-02-017Hoergensweg_Endausbau_1v4-AU_2016383-02-018Hoergensweg_Endausbau_1v4-AU_2016383-02-019Spielplatz Brummerskamp
URL:https://forum-eidelstedt.de/event/treffen/
CATEGORIES:Forum
ATTACH;FMTTYPE=image/jpeg:https://forum-eidelstedt.de/wp-content/uploads/2024/04/LissyHaus04-scaled.jpg
END:VEVENT
BEGIN:VEVENT
DTSTART;TZID=UTC:20240323T140000
DTEND;TZID=UTC:20240323T160000
DTSTAMP:20260424T212010
CREATED:20240304T171942Z
LAST-MODIFIED:20240420T210701Z
UID:367-1711202400-1711209600@forum-eidelstedt.de
SUMMARY:Stadtteilrundgang Eidelstedter Höfe
DESCRIPTION:Gemeinsam mit der Mobilen Geschichtswerkstatt Eidelstedt  landen wir zu einem Stadtteilspaziergang rund um die Eidelstedter Höfe ein.  Der erste Abschnitt der Eidelstedter Höfe\, der große Neubau am Eidelstedter Platz\, ist zum Teil fertig\, die ersten Läden und Bewohner sind eingezogen. Es wird die projektleitende Architektin Birgit Bredenow vom Büro Schenk-Fleischhaker dabei sein\, welches an der Planung der Anlage beteiligt ist. Wir hoffen\, dass auch Mieter dazu kommen. Wir werden die Anlage und das Umfeld erkunden und eine kleine Exkursionen in die Geschichte dieses Zentrums unseres Stadtteil unternehmen. \n\n\n\nDieser Stadtteilrundgang ist ein Angebot des Forum Eidelstedt gemeinsam mit der Mobilen Geschichtswerkstatt.Vom Forum Eidelstedt wird alle zwei Monate der Stadtteilbeirat Eidelstedt zur Bürgerbeteiligung organisiert.Mit den Rundgängen wollen wir engagierten Eidelstedter*innen und Neubürger*ìnnen zusätzlich die Gelegenheit zu Information und Austausch vor Ort bieten und so Bürgerbeteiligung und Zusammenhalt im Stadtteil fördern. Weitere Rundgänge und Fahrradtouren sind geplant. \n\n\n\nTreffpunkt: Eidelstedter Höfe- Ecke  Eidelstedter Platz 18 /Eidelstedter Dorfstraße  \n\n\n\nWeitere geplante Stadtteilrundgänge für die nächsten Monate:https://eidelstedt.info/kultur_freizeit/mobile-geschichtswerkstatt-eidelstedt/#3694Diese Seite wird auch im Laufe des Jahres immer wieder aktualisiert.Mobile Geschichtswerkstatt EidelstedtTel 040 5712049\,  wpg.wallach@t-online.dehttps://eidelstedt.info/kultur_freizeit/mobile-geschichtswerkstatt-eidelstedt/#3485
URL:https://forum-eidelstedt.de/event/eidelstedter-hoefe/
CATEGORIES:Stadtteilrundgang
ATTACH;FMTTYPE=image/jpeg:https://forum-eidelstedt.de/wp-content/uploads/2024/04/20240216_133453-scaled.jpg
END:VEVENT
BEGIN:VEVENT
DTSTART;TZID=UTC:20240311T000000
DTEND;TZID=UTC:20240324T235959
DTSTAMP:20260424T212010
CREATED:20240218T165351Z
LAST-MODIFIED:20240223T145111Z
UID:154-1710115200-1711324799@forum-eidelstedt.de
SUMMARY:Eimsbüttel zeigt Haltung
DESCRIPTION:www.eimsbuettel-zeigt-haltung.de
URL:https://forum-eidelstedt.de/event/eimsbuettel-zeigt-haltung/
END:VEVENT
BEGIN:VEVENT
DTSTART;TZID=UTC:20240228T170000
DTEND;TZID=UTC:20240228T190000
DTSTAMP:20260424T212010
CREATED:20240220T162016Z
LAST-MODIFIED:20260405T165845Z
UID:254-1709139600-1709146800@forum-eidelstedt.de
SUMMARY:Forum Eidelstedt 1.1-24\,                                                Informationsveranstaltung zur Hinschstrasse
DESCRIPTION:im Kulturhaus Eidelstedt\, Alte Elbgaustraße 12\, 22523 Hamburg\, Saal \n\n\n\n\n\nDownload: Informationsveranstaltung zur Hinschstrasse – Präsentation des Bezirksamtes
URL:https://forum-eidelstedt.de/event/forum-1-1-24-zusatztermin-2/
LOCATION:Saal Kulturhaus Eidelstedt im steeedt\, Alte Elbgaustraße 12\, Hamburg\, 23523
ATTACH;FMTTYPE=image/jpeg:https://forum-eidelstedt.de/wp-content/uploads/2024/04/steeedt.jpeg
END:VEVENT
BEGIN:VEVENT
DTSTART;TZID=Europe/Paris:20240221T190000
DTEND;TZID=Europe/Paris:20240221T210000
DTSTAMP:20260424T212010
CREATED:20240209T050833Z
LAST-MODIFIED:20260405T165515Z
UID:63-1708542000-1708549200@forum-eidelstedt.de
SUMMARY:Forum Eidelstedt 01-24:                                                                           Das Forum übernimmt von der Steg
DESCRIPTION:Mit dem Frühling erwachen wir zu neuen Taten. Das Forum Eidelstedt übernimmt als Stadteilbeirat Eidelstedt die Staffel von der steg. Wir freuen uns\, Sie und Euch zu unserem ersten Forum Eidelstedt am Mi. 21.02.2024\, 19 Uhr\, im Saal des Kulturhaus Eidelstedt im steeedt begrüßen zu können. \n\n\n\nDownloads:Einladung/TagesordnungProtokoll
URL:https://forum-eidelstedt.de/event/1-sitzung/
LOCATION:Saal Kulturhaus Eidelstedt im steeedt\, Alte Elbgaustraße 12\, Hamburg\, 23523
CATEGORIES:Sitzung
ATTACH;FMTTYPE=image/jpeg:https://forum-eidelstedt.de/wp-content/uploads/2024/04/Steeedt_NicFey_2022-scaled.jpg
END:VEVENT
END:VCALENDAR